BEGIN:VCALENDAR
VERSION:2.0
PRODID:-// - ECPv6.15.20//NONSGML v1.0//EN
CALSCALE:GREGORIAN
METHOD:PUBLISH
X-ORIGINAL-URL:https://www.studentleadershipnetwork.org
X-WR-CALDESC:Events for 
REFRESH-INTERVAL;VALUE=DURATION:PT1H
X-Robots-Tag:noindex
X-PUBLISHED-TTL:PT1H
BEGIN:VTIMEZONE
TZID:America/New_York
BEGIN:DAYLIGHT
TZOFFSETFROM:-0500
TZOFFSETTO:-0400
TZNAME:EDT
DTSTART:20200308T070000
END:DAYLIGHT
BEGIN:STANDARD
TZOFFSETFROM:-0400
TZOFFSETTO:-0500
TZNAME:EST
DTSTART:20201101T060000
END:STANDARD
BEGIN:DAYLIGHT
TZOFFSETFROM:-0500
TZOFFSETTO:-0400
TZNAME:EDT
DTSTART:20210314T070000
END:DAYLIGHT
BEGIN:STANDARD
TZOFFSETFROM:-0400
TZOFFSETTO:-0500
TZNAME:EST
DTSTART:20211107T060000
END:STANDARD
BEGIN:DAYLIGHT
TZOFFSETFROM:-0500
TZOFFSETTO:-0400
TZNAME:EDT
DTSTART:20220313T070000
END:DAYLIGHT
BEGIN:STANDARD
TZOFFSETFROM:-0400
TZOFFSETTO:-0500
TZNAME:EST
DTSTART:20221106T060000
END:STANDARD
END:VTIMEZONE
BEGIN:VEVENT
DTSTART;TZID=America/New_York:20211007T090000
DTEND;TZID=America/New_York:20211007T160000
DTSTAMP:20260420T074127
CREATED:20210818T160454Z
LAST-MODIFIED:20220329T192932Z
UID:8585-1633597200-1633622400@www.studentleadershipnetwork.org
SUMMARY:Whole Girl Education Leadership Institute
DESCRIPTION:Educating girls is our passion and we would be delighted to have you join us for the Whole Girl Education Leadership Institute! \nJoin us for a two-part professional development series to learn about Whole Girl Education supervisory practices to improve the educational experiences of girls on \n\nOctober 7 in NYC followed by a school visit on October 8; and\nFebruary 18 virtually.\n\nThe cost for both workshops is $1\,000 (scholarship funding available on a first-come\, first-serve basis) which will include: \n\nTwo full days of professional development\nWhole Girl Education Toolkit\nOne coaching or observation session\nAccess to office hours and professional learning community meetings\n\nQuestions about the workshop or our work? Get in touch with Sarah Boldin\, Director of Leadership & New Schools
URL:https://www.studentleadershipnetwork.org/event/whole-girl-education-leadership-institute/
LOCATION:Student Leadership Network\, 322 8th Avenue\, New York\, NY\, 10001\, United States
CATEGORIES:Girls'+ Education,YWL Affiliate
ATTACH;FMTTYPE=image/png:https://www.studentleadershipnetwork.org/wp-content/uploads/2021/05/Leadership-Institute-Banner.png
END:VEVENT
END:VCALENDAR