BEGIN:VCALENDAR
VERSION:2.0
PRODID:-// - ECPv6.15.20//NONSGML v1.0//EN
CALSCALE:GREGORIAN
METHOD:PUBLISH
X-ORIGINAL-URL:https://www.studentleadershipnetwork.org
X-WR-CALDESC:Events for 
REFRESH-INTERVAL;VALUE=DURATION:PT1H
X-Robots-Tag:noindex
X-PUBLISHED-TTL:PT1H
BEGIN:VTIMEZONE
TZID:America/New_York
BEGIN:DAYLIGHT
TZOFFSETFROM:-0500
TZOFFSETTO:-0400
TZNAME:EDT
DTSTART:20160313T070000
END:DAYLIGHT
BEGIN:STANDARD
TZOFFSETFROM:-0400
TZOFFSETTO:-0500
TZNAME:EST
DTSTART:20161106T060000
END:STANDARD
BEGIN:DAYLIGHT
TZOFFSETFROM:-0500
TZOFFSETTO:-0400
TZNAME:EDT
DTSTART:20170312T070000
END:DAYLIGHT
BEGIN:STANDARD
TZOFFSETFROM:-0400
TZOFFSETTO:-0500
TZNAME:EST
DTSTART:20171105T060000
END:STANDARD
BEGIN:DAYLIGHT
TZOFFSETFROM:-0500
TZOFFSETTO:-0400
TZNAME:EDT
DTSTART:20180311T070000
END:DAYLIGHT
BEGIN:STANDARD
TZOFFSETFROM:-0400
TZOFFSETTO:-0500
TZNAME:EST
DTSTART:20181104T060000
END:STANDARD
END:VTIMEZONE
BEGIN:VEVENT
DTSTART;TZID=America/New_York:20171010T080000
DTEND;TZID=America/New_York:20171010T090000
DTSTAMP:20260425T175204
CREATED:20210819T141440Z
LAST-MODIFIED:20210819T141440Z
UID:8727-1507622400-1507626000@www.studentleadershipnetwork.org
SUMMARY:(Em)Power Breakfast 2017
DESCRIPTION:This morning\, we celebrated the incredible accomplishments of the students at The Young Women’s Leadership Schools and those of our honorees – Documentary Filmmaker and Tony Award-Winning Broadway Producer Amanda Lipitz; Joanne Podell\, Executive Chairman at Cushman & Wakefield; Liz Robbins\, Founder of Liz Robbins Associates; and Kenya Barris\, Creator and Showrunner of ABC’s black-ish and the “Man We Love.” On the eve of the International Day of the Girl\, we are proud that these four distinguished individuals and supporters like you joined us as part of a worldwide movement committed to improving the lives of young women. \nYoung Women’s Leadership Network has been empowering young women to reach their higher education dreams since our founder Ann Tisch established our first school in East Harlem in 1996. Today\, we have graduates on campuses across the country and TYWLS alumnae have degrees from Smith\, Brown\, Cornell\, Columbia\, and dozens of other private and public colleges. In fact\, TYWLS students not only enroll in college at double the rate of their peers – they graduate at four times the rate. \nNow\, with five schools in New York City and thirteen affiliate schools across the country\, and two more schools slated to open in 2018\, with your help we are poised to have an even greater impact on the more than 8\,500 students we serve each year. \nWe hope you will stay with us and our students on the journey to their bright futures. Please consider taking the following actions today: \n\nInvest: Your gift will help students realize their academic and leadership potential.\nVolunteer: Share your knowledge and experiences as a volunteer mentor to young women in grades 6-12.\nInspire: Approach your company about supporting SL Network and engage colleagues in our volunteer programs.\nBe Social: Follow us on Facebook\, Twitter\, and Instagram
URL:https://www.studentleadershipnetwork.org/event/empower-breakfast-2017/
LOCATION:Cipriani 42nd Street\, New York\, NY\, United States
CATEGORIES:Girls'+ Education,TYWLS,YWL Affiliate
ATTACH;FMTTYPE=image/jpeg:https://www.studentleadershipnetwork.org/wp-content/uploads/2017/11/2017-EmPower-1.jpg
END:VEVENT
END:VCALENDAR