BEGIN:VCALENDAR
VERSION:2.0
PRODID:-// - ECPv6.15.20//NONSGML v1.0//EN
CALSCALE:GREGORIAN
METHOD:PUBLISH
X-ORIGINAL-URL:https://www.studentleadershipnetwork.org
X-WR-CALDESC:Events for 
REFRESH-INTERVAL;VALUE=DURATION:PT1H
X-Robots-Tag:noindex
X-PUBLISHED-TTL:PT1H
BEGIN:VTIMEZONE
TZID:America/New_York
BEGIN:DAYLIGHT
TZOFFSETFROM:-0500
TZOFFSETTO:-0400
TZNAME:EDT
DTSTART:20170312T070000
END:DAYLIGHT
BEGIN:STANDARD
TZOFFSETFROM:-0400
TZOFFSETTO:-0500
TZNAME:EST
DTSTART:20171105T060000
END:STANDARD
BEGIN:DAYLIGHT
TZOFFSETFROM:-0500
TZOFFSETTO:-0400
TZNAME:EDT
DTSTART:20180311T070000
END:DAYLIGHT
BEGIN:STANDARD
TZOFFSETFROM:-0400
TZOFFSETTO:-0500
TZNAME:EST
DTSTART:20181104T060000
END:STANDARD
BEGIN:DAYLIGHT
TZOFFSETFROM:-0500
TZOFFSETTO:-0400
TZNAME:EDT
DTSTART:20190310T070000
END:DAYLIGHT
BEGIN:STANDARD
TZOFFSETFROM:-0400
TZOFFSETTO:-0500
TZNAME:EST
DTSTART:20191103T060000
END:STANDARD
END:VTIMEZONE
BEGIN:VEVENT
DTSTART;TZID=America/New_York:20181016T080000
DTEND;TZID=America/New_York:20181016T090000
DTSTAMP:20260423T212112
CREATED:20210819T135917Z
LAST-MODIFIED:20210819T135937Z
UID:8720-1539676800-1539680400@www.studentleadershipnetwork.org
SUMMARY:(Em)Power Breakfast 2018
DESCRIPTION:STUDENT LEADERSHIP NETWORK HONORS TRACEE ELLIS ROSS\, BRUCE MOSLER AND VALERIE RADWANER AT ANNUAL (EM)POWER BREAKFAST IN NEW YORK CITY \nOctober 17\, 2018\, New York\, New York — Yesterday\, Student Leadership Network (SL Network) produced their annual (Em)Power Breakfast\, a gathering of 700 guests to celebrate more than 2\,500 girls who are impacted by The Young Women’s Leadership Schools (TYWLS) in New York City. The event honors the organization’s students and their achievements\, as well as business and philanthropic leaders for their commitment to breaking the cycle of poverty through equalizing education. \nAyana Gilbert\, a 9th grade student at TYWLS of East Harlem\, opened the program with her original poem “What is Beautiful.” Following\, Founder and President Ann Tisch welcomed guests to the event and urged the crowd to continue to support girls’ education and Student Leadership Network’s mission to empower a diverse pipeline of young people\, by providing them with access to educational opportunities that prepare them to become global change agents. \nExecutive Director\, Jemina Bernard\, announced the organization’s official name change from Young Women’s Leadership Network to Student Leadership Network. She then introduced students from several affiliates from around the country\, including the schools in Baltimore\, MD; Chicago\, IL; St. Louis\, MO; Wilmington\, NC; and Rochester\, NY to walk the stage and introduce themselves to the audience. \nLaura Rebell Gross\, head of Girls’ Education at the organization\, highlighted the stellar work and support her team provides to the schools in New York City and nationwide. Since 2001\, TYWLS has helped garner more than $123 M in scholarships and financial aid for students going to college\, and nearly 100% of students graduate each year. TYWLS students graduate from college at nearly four times the rate of their peers. \nSophia Fiallo served as the student emcee for the event and shared her personal experience attending TWYLS and how it has changed her life for the better. “The (Em)Power event gives us the chance to showcase our amazing young women. They often share their compelling stories about their families\, their struggles\, and their victories. I don’t want anyone to ever forget how accomplished and driven our students are\,” says Ann Tisch. \nActress and philanthropist Tracee Ellis Ross joined the event\, via Skype\, and was interviewed by fellow Brown and TYWLS of East Harlem alumnae Jo’Nella Ellerbe and Geetanjali Gunanathan. Tracee chatted about the importance of finding mentors and how she came to be inspired to serve as a voice for women in today’s world. Bruce Mosler\, Chairman\, Global Brokerage at Cushman & Wakefield\, was interviewed by Ianna Gilbert\, TYWLS of Jamaica student. Bruce explained how he balances the pressure of working at Cushman Wakefield while serving as the co-chair of the board of The Intrepid Museum. Valerie Radwaner\, Deputy Chair at Paul\, Weiss\, Rifkind\, Wharton & Garrison LLP\, was interviewed by Javeria Amir\, a 12th grade student at TYWLS of East Harlem and inspired the crowd with the following powerful statement: “Do not be afraid to be the only girl in the room. When I enter the room\, I sit in the very front row.” \nJemina R. Bernard\, Executive Director\, Student Leadership Network shares\, “At the end of the day\, our annual (Em)Power Breakfast is a celebration of the 9\,000 students we impact across our 5 NYC based Young Women’s Leadership Schools and 15 national affiliates nationwide. I can’t think of a better way to honor and celebrate their achievements than by having them emcee the event and interview our honorees. They embody all that gives us hope for the future of our city\, country and world!” \n#####
URL:https://www.studentleadershipnetwork.org/event/empower-breakfast-2018/
LOCATION:Cipriani 42nd Street\, New York\, NY\, United States
CATEGORIES:Girls'+ Education,TYWLS,YWL Affiliate
ATTACH;FMTTYPE=image/jpeg:https://www.studentleadershipnetwork.org/wp-content/uploads/2018/08/EmPower-Photo-1.jpg
END:VEVENT
END:VCALENDAR